BEGIN:VCALENDAR
VERSION:2.0
PRODID:-//Ulrich Mattner - Journalist, Fotograf &amp; Autor - ECPv6.7.0//NONSGML v1.0//EN
CALSCALE:GREGORIAN
METHOD:PUBLISH
X-ORIGINAL-URL:https://umattner.de
X-WR-CALDESC:Veranstaltungen für Ulrich Mattner - Journalist, Fotograf &amp; Autor
REFRESH-INTERVAL;VALUE=DURATION:PT1H
X-Robots-Tag:noindex
X-PUBLISHED-TTL:PT1H
BEGIN:VTIMEZONE
TZID:Europe/Berlin
BEGIN:DAYLIGHT
TZOFFSETFROM:+0100
TZOFFSETTO:+0200
TZNAME:CEST
DTSTART:20260329T010000
END:DAYLIGHT
BEGIN:STANDARD
TZOFFSETFROM:+0200
TZOFFSETTO:+0100
TZNAME:CET
DTSTART:20261025T010000
END:STANDARD
END:VTIMEZONE
BEGIN:VEVENT
DTSTART;TZID=Europe/Berlin:20260713T183000
DTEND;TZID=Europe/Berlin:20260713T203000
DTSTAMP:20260420T081430
CREATED:20260217T161530Z
LAST-MODIFIED:20260217T161710Z
UID:10000366-1783967400-1783974600@umattner.de
SUMMARY:1x1_der_Handyfotografie_13_7_2026
DESCRIPTION:[vc_row][vc_column width=”1/3″]Spitzenfotos mit dem Smartphone[vc_column_text]Zehn Tipps für Superfotos! Als bekannter Fotograf (zehn Bildbände + zahlreiche Ausstellungen) starte ich diesen Fotoworkshop im  Luxushotel Le Méridien Frankfurt mit der 20minütigen Beamershow „Zehn Tipps für Wow-Bilder!“. Dann gehen wir auf Foto-Safari durchs schillernde Bahnhofsviertel. In diesem spannenden und leicht verständlichen Workshop ohne „Techniklatein“ lernen die Teilnehmer an Hand vieler Beispiele viel bessere Bilder zu schießen. Die Teilnahmegebühr beinhaltet einen Welcome Drink in der angesagten Jambo-Bar.[/vc_column_text][/vc_column][vc_column width=”1/3″]Wichtige Informationen zur TourTreffpunkt15 Min. vor Workshopbeginn vor dem Haupteingang des Hauptbahnhofs (Mitte des Bahnhofs) \nZeitplan\nDer Workshop dauert zwei Stunden\n\nInhaltFoto-Safari durchs Bahnhofsviertel für perfekte Handyfotos \nPreisDie Teilnahme kostet 29 € \n[/vc_column][vc_column width=”1/3″]Alle Veranstaltungsinfos & Ablauf [/vc_column][/vc_row][vc_row full_width=”stretch_row” css=”.vc_custom_1596556372868{padding-top: 15px !important;padding-bottom: 15px !important;}”][vc_column][vc_row_inner][vc_column_inner width=”1/4″][/vc_column_inner][vc_column_inner width=”1/2″][/vc_column_inner][vc_column_inner width=”1/4″][/vc_column_inner][/vc_row_inner][/vc_column][/vc_row]
URL:https://umattner.de/event/1x1_der_handyfotografie_13_7_2026/
LOCATION:Bahnhofsviertel\, Hauptbahnhof\, Frankfurt am Main\, Hessen\, 60329\, Deutschland
CATEGORIES:Handy-Fotografie,Touren & Workshops
ATTACH;FMTTYPE=image/jpeg:https://umattner.de/wp-content/uploads/2025/11/Holbeinsteg_sm.jpg
ORGANIZER;CN="Ulrich Mattner":MAILTO:um@umattner.de
END:VEVENT
BEGIN:VEVENT
DTSTART;TZID=Europe/Berlin:20260715T183000
DTEND;TZID=Europe/Berlin:20260715T203000
DTSTAMP:20260420T081430
CREATED:20260302T181007Z
LAST-MODIFIED:20260302T181311Z
UID:10000369-1784140200-1784147400@umattner.de
SUMMARY:Crack\, Koks\, Heroin im Bahnhofsviertel_15_7_2026
DESCRIPTION:[vc_row][vc_column width=”1/3″]Tour mit Tom Holz\, Ex-Leiter Streetworker-Büro im Bahnhofsviertel[vc_column_text]Frankfurt ist Deutschlands Crack-Hauptstadt. Die Folgen: Razzien\, Kriminalität und Prostitution. Diese Tour schildert – sensibel und ohne die Drogenkranken „vorzuführen“ – warum Menschen zu Drogen greifen und nicht mehr davon loskommen. Wie wirken Crack und Heroin? Wie kommen die Drogen ins Bahnhofsviertel und warum hat Frankfurt die einzige offene Drogenszene Deutschlands?[/vc_column_text][/vc_column][vc_column width=”1/3″]Wichtige Informationen zur TourTreffpunktSchräg gegenüber Hauptbahnhof\, vor dem Hotel Le Méridien Frankfurt\, Wiesenhüttenplatz 38 \nTourstart & Dauer18.30 Uhr\, Dauer 90 Minuten \nBesonderheitenDas Mindestalter für diese Tour beträgt 15 Jahre. \nPreisDie Teilnahme kostet 25 € \n[/vc_column][vc_column width=”1/3″]Alle Veranstaltungsinfos & Ablauf [/vc_column][/vc_row]
URL:https://umattner.de/event/crack-koks-heroin-im-bahnhofsviertel_15_7_2026/
LOCATION:Bahnhofsviertel\, Hauptbahnhof\, Frankfurt am Main\, Hessen\, 60329\, Deutschland
CATEGORIES:Drogentour,Touren & Workshops
ATTACH;FMTTYPE=image/jpeg:https://umattner.de/wp-content/uploads/2022/03/web_Crack.jpg
ORGANIZER;CN="Ulrich Mattner":MAILTO:um@umattner.de
END:VEVENT
END:VCALENDAR