BEGIN:VCALENDAR
VERSION:2.0
PRODID:-//Ulrich Mattner - Journalist, Fotograf &amp; Autor - ECPv6.7.0//NONSGML v1.0//EN
CALSCALE:GREGORIAN
METHOD:PUBLISH
X-ORIGINAL-URL:https://umattner.de
X-WR-CALDESC:Veranstaltungen für Ulrich Mattner - Journalist, Fotograf &amp; Autor
REFRESH-INTERVAL;VALUE=DURATION:PT1H
X-Robots-Tag:noindex
X-PUBLISHED-TTL:PT1H
BEGIN:VTIMEZONE
TZID:Europe/Berlin
BEGIN:DAYLIGHT
TZOFFSETFROM:+0100
TZOFFSETTO:+0200
TZNAME:CEST
DTSTART:20260329T010000
END:DAYLIGHT
BEGIN:STANDARD
TZOFFSETFROM:+0200
TZOFFSETTO:+0100
TZNAME:CET
DTSTART:20261025T010000
END:STANDARD
END:VTIMEZONE
BEGIN:VEVENT
DTSTART;TZID=Europe/Berlin:20260601T183000
DTEND;TZID=Europe/Berlin:20260601T203000
DTSTAMP:20260420T082325
CREATED:20260302T180510Z
LAST-MODIFIED:20260302T181118Z
UID:10000368-1780338600-1780345800@umattner.de
SUMMARY:Crack\, Koks\, Heroin im Bahnhofsviertel_1_6_2026
DESCRIPTION:[vc_row][vc_column width=”1/3″]Tour mit Tom Holz\, Ex-Leiter Streetworker-Büro im Bahnhofsviertel[vc_column_text]Frankfurt ist Deutschlands Crack-Hauptstadt. Die Folgen: Razzien\, Kriminalität und Prostitution. Diese Tour schildert – sensibel und ohne die Drogenkranken „vorzuführen“ – warum Menschen zu Drogen greifen und nicht mehr davon loskommen. Wie wirken Crack und Heroin? Wie kommen die Drogen ins Bahnhofsviertel und warum hat Frankfurt die einzige offene Drogenszene Deutschlands?[/vc_column_text][/vc_column][vc_column width=”1/3″]Wichtige Informationen zur TourTreffpunktSchräg gegenüber Hauptbahnhof\, vor dem Hotel Le Méridien Frankfurt\, Wiesenhüttenplatz 38 \nTourstart & Dauer18.30 Uhr\, Dauer 90 Minuten \nBesonderheitenDas Mindestalter für diese Tour beträgt 15 Jahre. \nPreisDie Teilnahme kostet 25 € \n[/vc_column][vc_column width=”1/3″]Alle Veranstaltungsinfos & Ablauf [/vc_column][/vc_row]
URL:https://umattner.de/event/crack-koks-heroin-im-bahnhofsviertel_1_6_2026/
LOCATION:Bahnhofsviertel\, Hauptbahnhof\, Frankfurt am Main\, Hessen\, 60329\, Deutschland
CATEGORIES:Drogentour,Touren & Workshops
ATTACH;FMTTYPE=image/jpeg:https://umattner.de/wp-content/uploads/2022/03/web_Crack.jpg
ORGANIZER;CN="Ulrich Mattner":MAILTO:um@umattner.de
END:VEVENT
BEGIN:VEVENT
DTSTART;TZID=Europe/Berlin:20260603T200000
DTEND;TZID=Europe/Berlin:20260603T230000
DTSTAMP:20260420T082325
CREATED:20251217T184829Z
LAST-MODIFIED:20260112T104232Z
UID:10000349-1780516800-1780527600@umattner.de
SUMMARY:„Die ganze Welt in einem Kiez“ am 3. Juni 2026
DESCRIPTION:[vc_row][vc_column width=”1/2″]Die Tour dauert etwa 3 StundenTreffpunkt ist 15 Min. vor Tourbeginn vor dem Haupteingang des Hauptbahnhofs (Mitte des Bahnhofs)Mindestalter: 18 JahreInklusive: Beamershow\, Bollywood-Kino\, KostprobeSzene-Pizzeria Dakota\, Welcome-Drink in Szene-Bar PrachtStornierung bis 72 Stunden vor Tourstart[/vc_column][vc_column width=”1/2″][/vc_column][/vc_row][vc_row][vc_column][/vc_column][/vc_row]
URL:https://umattner.de/event/die-ganze-welt-in-einem-kiez-am-3-juni-2026/
LOCATION:Bahnhofsviertel\, Hauptbahnhof\, Frankfurt am Main\, Hessen\, 60329\, Deutschland
CATEGORIES:Buchtour,Touren & Workshops
ATTACH;FMTTYPE=image/jpeg:https://umattner.de/wp-content/uploads/2022/10/25Hours.jpg
ORGANIZER;CN="Ulrich Mattner":MAILTO:um@umattner.de
END:VEVENT
BEGIN:VEVENT
DTSTART;TZID=Europe/Berlin:20260605T200000
DTEND;TZID=Europe/Berlin:20260605T230000
DTSTAMP:20260420T082325
CREATED:20260131T172350Z
LAST-MODIFIED:20260131T172350Z
UID:10000354-1780689600-1780700400@umattner.de
SUMMARY:Red Light Tour\, Freitag\, 5. Juni
DESCRIPTION:[vc_row][vc_column width=”1/3″]Wie das Frankfurter Rotlichtviertel wirklich tickt[vc_column_text]Ulrich Mattner\, Journalist\, Fotograf und Autor vieler Frankfurt-Bücher\, führt seit zwölf  Jahren hinter die Kulissen des Rotlichtmilieus im Frankfurter Bahnhofsviertel. Fern aller TV-Dramatik und Shades-of-Gray-Romantik vermittelt er ein realistisches Bild der Arbeit in den Laufhäusern und Table-Dance-Clubs. \nBesuch im Bordell: Wie Prostitution wirklich ist? Im Mittelpunkt der Tour stehen Fragen wie: \n\nWarum arbeiten Frauen im Bordell?\nGibt es Zwangsprostitution?\nWas verdienen Sexarbeiterinnen?\n\n[/vc_column_text][/vc_column][vc_column width=”1/3″]Informationen zur TourTreffpunktVor dem Haupteingang vor dem Hauptbahnhofs \nStart pünktlich um 20 UhrDie Tour beginnt um 20 Uhr und dauert etwa drei Stunden \nBesonderheitenMindestalter 18 Jahre. \nPreisPreis je Ticket: 69 € \nStornierungBis 48 Stunden vor dem Tourstart kann die Teilnahme per E-Mail bei Ulrich Mattner storniert werden ( um@umattner.de ). \n[/vc_column][vc_column width=”1/3″]Alle Veranstaltungsinfos & Ablauf [/vc_column][/vc_row]
URL:https://umattner.de/event/red-light-tour-freitag-5-juni/
LOCATION:Bahnhofsviertel\, Hauptbahnhof\, Frankfurt am Main\, Hessen\, 60329\, Deutschland
CATEGORIES:Rotlicht 2025,Touren & Workshops
ATTACH;FMTTYPE=image/jpeg:https://umattner.de/wp-content/uploads/2021/12/sm_Kate_2.jpg
ORGANIZER;CN="Ulrich Mattner":MAILTO:um@umattner.de
END:VEVENT
END:VCALENDAR