BEGIN:VCALENDAR
VERSION:2.0
PRODID:-//Ulrich Mattner - Journalist, Fotograf &amp; Autor - ECPv6.7.0//NONSGML v1.0//EN
CALSCALE:GREGORIAN
METHOD:PUBLISH
X-ORIGINAL-URL:https://umattner.de
X-WR-CALDESC:Veranstaltungen für Ulrich Mattner - Journalist, Fotograf &amp; Autor
REFRESH-INTERVAL;VALUE=DURATION:PT1H
X-Robots-Tag:noindex
X-PUBLISHED-TTL:PT1H
BEGIN:VTIMEZONE
TZID:Europe/Berlin
BEGIN:DAYLIGHT
TZOFFSETFROM:+0100
TZOFFSETTO:+0200
TZNAME:CEST
DTSTART:20260329T010000
END:DAYLIGHT
BEGIN:STANDARD
TZOFFSETFROM:+0200
TZOFFSETTO:+0100
TZNAME:CET
DTSTART:20261025T010000
END:STANDARD
END:VTIMEZONE
BEGIN:VEVENT
DTSTART;TZID=Europe/Berlin:20260703T200000
DTEND;TZID=Europe/Berlin:20260703T230000
DTSTAMP:20260420T032011
CREATED:20260210T145450Z
LAST-MODIFIED:20260210T154645Z
UID:10000355-1783108800-1783119600@umattner.de
SUMMARY:Red Light Tour\, Freitag\, 3. Juli
DESCRIPTION:[vc_row][vc_column width=”1/3″]Informationen zur TourTreffpunktVor dem Haupteingang vor dem Hauptbahnhofs \nStart pünktlich um 20 UhrDie Tour beginnt um 20 Uhr und dauert etwa drei Stunden \nBesonderheitenMindestalter 18 Jahre. \nPreisPreis je Ticket: 69 € \nStornierungBis 48 Stunden vor dem Tourstart kann die Teilnahme per E-Mail bei Ulrich Mattner storniert werden ( um@umattner.de ). \n[/vc_column][vc_column width=”1/3″]Alle Veranstaltungsinfos & Ablauf [/vc_column][/vc_row]
URL:https://umattner.de/event/red-light-tour-freitag-3-juli/
LOCATION:Bahnhofsviertel\, Hauptbahnhof\, Frankfurt am Main\, Hessen\, 60329\, Deutschland
CATEGORIES:Rotlicht 2025,Touren & Workshops
ATTACH;FMTTYPE=image/jpeg:https://umattner.de/wp-content/uploads/2021/12/sm_Kate_2.jpg
ORGANIZER;CN="Ulrich Mattner":MAILTO:um@umattner.de
END:VEVENT
END:VCALENDAR