BEGIN:VCALENDAR
VERSION:2.0
PRODID:-//Ulrich Mattner - Journalist, Fotograf &amp; Autor - ECPv6.7.0//NONSGML v1.0//EN
CALSCALE:GREGORIAN
METHOD:PUBLISH
X-ORIGINAL-URL:https://umattner.de
X-WR-CALDESC:Veranstaltungen für Ulrich Mattner - Journalist, Fotograf &amp; Autor
REFRESH-INTERVAL;VALUE=DURATION:PT1H
X-Robots-Tag:noindex
X-PUBLISHED-TTL:PT1H
BEGIN:VTIMEZONE
TZID:Europe/Berlin
BEGIN:DAYLIGHT
TZOFFSETFROM:+0100
TZOFFSETTO:+0200
TZNAME:CEST
DTSTART:20260329T010000
END:DAYLIGHT
BEGIN:STANDARD
TZOFFSETFROM:+0200
TZOFFSETTO:+0100
TZNAME:CET
DTSTART:20261025T010000
END:STANDARD
END:VTIMEZONE
BEGIN:VEVENT
DTSTART;TZID=Europe/Berlin:20260310T183000
DTEND;TZID=Europe/Berlin:20260310T200000
DTSTAMP:20260420T022006
CREATED:20251111T183632Z
LAST-MODIFIED:20251111T184126Z
UID:10000346-1773167400-1773172800@umattner.de
SUMMARY:Crack\, Koks\, Heroin im Bahnhofsviertel_10_3_2026
DESCRIPTION:
URL:https://umattner.de/event/crack-koks-heroin-im-bahnhofsviertel_10_3_2026/
LOCATION:Bahnhofsviertel\, Hauptbahnhof\, Frankfurt am Main\, Hessen\, 60329\, Deutschland
CATEGORIES:Drogentour,Touren & Workshops
ATTACH;FMTTYPE=image/jpeg:https://umattner.de/wp-content/uploads/2022/03/web_Crack.jpg
ORGANIZER;CN="Ulrich Mattner":MAILTO:um@umattner.de
END:VEVENT
END:VCALENDAR