BEGIN:VCALENDAR
VERSION:2.0
PRODID:-//Ulrich Mattner - Journalist, Fotograf &amp; Autor - ECPv6.7.0//NONSGML v1.0//EN
CALSCALE:GREGORIAN
METHOD:PUBLISH
X-WR-CALNAME:Ulrich Mattner - Journalist, Fotograf &amp; Autor
X-ORIGINAL-URL:https://umattner.de
X-WR-CALDESC:Veranstaltungen für Ulrich Mattner - Journalist, Fotograf &amp; Autor
REFRESH-INTERVAL;VALUE=DURATION:PT1H
X-Robots-Tag:noindex
X-PUBLISHED-TTL:PT1H
BEGIN:VTIMEZONE
TZID:Europe/Berlin
BEGIN:DAYLIGHT
TZOFFSETFROM:+0100
TZOFFSETTO:+0200
TZNAME:CEST
DTSTART:20250330T010000
END:DAYLIGHT
BEGIN:STANDARD
TZOFFSETFROM:+0200
TZOFFSETTO:+0100
TZNAME:CET
DTSTART:20251026T010000
END:STANDARD
END:VTIMEZONE
BEGIN:VEVENT
DTSTART;TZID=Europe/Berlin:20250214T200000
DTEND;TZID=Europe/Berlin:20250214T230000
DTSTAMP:20260423T071449
CREATED:20241026T195411Z
LAST-MODIFIED:20241107T142223Z
UID:10000240-1739563200-1739574000@umattner.de
SUMMARY:Red Light Tour\, Freitag\, 14. Februar
DESCRIPTION:[vc_row][vc_column]Blick hinter die Kulissen des Rotlichtviertels\n	\n		\n			Als Journalist\, Fotograf und Autor von vier Bahnhofsviertel-Büchern\, führe ich seit 15 Jahren hinter die Kulissen des Rotlichtmilieus im Frankfurter Bahnhofsviertel. Ziel ist es\, ein authentisches Bild der harten Arbeit in den Laufhäusern und Table-Dance-Clubs zu vermitteln. \n\n		\n	\n\n	\n		\n			Treffpunkt: vor Hbf-Haupteingang \nTourbeginn: 20 Uhr \nTourdauer: ca. drei Stunden \nMindestalter: 18 Jahre \nTourpreis: je 69 Euro \nStorno: bis 48 Stunden vor Tourstart \nInkl. zwei Welcome Drinks und freier Eintritt im Gesamtwert von 26 Euro \n\n		\n	\nWeitere Veranstaltungen [/vc_column][/vc_row]
URL:https://umattner.de/event/red-light-tour-freitag-14-februar/
LOCATION:Bahnhofsviertel\, Hauptbahnhof\, Frankfurt am Main\, Hessen\, 60329\, Deutschland
CATEGORIES:Rotlicht 2025,Touren & Workshops
ATTACH;FMTTYPE=image/jpeg:https://umattner.de/wp-content/uploads/2021/12/sm_Kate_2.jpg
ORGANIZER;CN="Ulrich Mattner":MAILTO:um@umattner.de
END:VEVENT
END:VCALENDAR